BEGIN:VCALENDAR
VERSION:2.0
PRODID:-//Runendar - ECPv6.8.1//NONSGML v1.0//EN
CALSCALE:GREGORIAN
METHOD:PUBLISH
X-WR-CALNAME:Runendar
X-ORIGINAL-URL:https://runendar.com
X-WR-CALDESC:Eventos para Runendar
REFRESH-INTERVAL;VALUE=DURATION:PT1H
X-Robots-Tag:noindex
X-PUBLISHED-TTL:PT1H
BEGIN:VTIMEZONE
TZID:Europe/Madrid
BEGIN:DAYLIGHT
TZOFFSETFROM:+0100
TZOFFSETTO:+0200
TZNAME:CEST
DTSTART:20240331T010000
END:DAYLIGHT
BEGIN:STANDARD
TZOFFSETFROM:+0200
TZOFFSETTO:+0100
TZNAME:CET
DTSTART:20241027T010000
END:STANDARD
END:VTIMEZONE
BEGIN:VEVENT
DTSTART;TZID=Europe/Madrid:20241215T103000
DTEND;TZID=Europe/Madrid:20241215T103000
DTSTAMP:20260426T043333
CREATED:20240910T082339Z
LAST-MODIFIED:20240910T082729Z
UID:394-1734258600-1734258600@runendar.com
SUMMARY:Media Maratón Alcoy MMUA 2024
DESCRIPTION:
URL:https://runendar.com/event/media-maraton-alcoy-mmua-2024/
LOCATION:Alcoy\, Alcoy\, Spain
CATEGORIES:Alicante
ATTACH;FMTTYPE=image/jpeg:https://runendar.com/wp-content/uploads/2024/09/mediaAlcoy.jpeg
END:VEVENT
BEGIN:VEVENT
DTSTART;TZID=Europe/Madrid:20241222T080000
DTEND;TZID=Europe/Madrid:20241222T080000
DTSTAMP:20260426T043333
CREATED:20240909T151308Z
LAST-MODIFIED:20240909T155658Z
UID:295-1734854400-1734854400@runendar.com
SUMMARY:XIV San Silvestre Christmas Run Benidorm 2024
DESCRIPTION:
URL:https://runendar.com/event/xiv-san-silvestre-christmas-run-benidorm-2024/
LOCATION:Benidorm\, Benidorm\, Spain
CATEGORIES:Alicante,Urbana
END:VEVENT
BEGIN:VEVENT
DTSTART;TZID=Europe/Madrid:20241228T200000
DTEND;TZID=Europe/Madrid:20241228T200000
DTSTAMP:20260426T043333
CREATED:20240909T151155Z
LAST-MODIFIED:20240909T154441Z
UID:293-1735416000-1735416000@runendar.com
SUMMARY:VI San Silvestre Popular Altea 2024
DESCRIPTION:
URL:https://runendar.com/event/vi-san-silvestre-popular-altea-2024/
LOCATION:Altea\, Altea\, Spain
CATEGORIES:Alicante,Urbana
END:VEVENT
BEGIN:VEVENT
DTSTART;TZID=Europe/Madrid:20241229T100000
DTEND;TZID=Europe/Madrid:20241229T100000
DTSTAMP:20260426T043333
CREATED:20240909T151044Z
LAST-MODIFIED:20240909T153615Z
UID:291-1735466400-1735466400@runendar.com
SUMMARY:X San Silvestre El Campello 2024
DESCRIPTION:
URL:https://runendar.com/event/x-san-silvestre-el-campello-2024/
LOCATION:El Campello\, El Campello\, Spain
CATEGORIES:Alicante,Urbana
END:VEVENT
END:VCALENDAR